
BEGIN:VCALENDAR
VERSION:2.0
PRODID:-//Afabaix - ECPv6.15.17.1//NONSGML v1.0//EN
CALSCALE:GREGORIAN
METHOD:PUBLISH
X-ORIGINAL-URL:https://afabaix.org/es/
X-WR-CALDESC:Eventos para Afabaix
REFRESH-INTERVAL;VALUE=DURATION:PT1H
X-Robots-Tag:noindex
X-PUBLISHED-TTL:PT1H
BEGIN:VTIMEZONE
TZID:UTC
BEGIN:STANDARD
TZOFFSETFROM:+0000
TZOFFSETTO:+0000
TZNAME:UTC
DTSTART:20250101T000000
END:STANDARD
END:VTIMEZONE
BEGIN:VEVENT
DTSTART;TZID=UTC:20260426T100000
DTEND;TZID=UTC:20260426T140000
DTSTAMP:20260424T135258
CREATED:20260420T094512Z
LAST-MODIFIED:20260420T094512Z
UID:29948-1777197600-1777212000@afabaix.org
SUMMARY:Tómbola Solidaria de la AFA en la Jordiada 2026
DESCRIPTION:En el marco de la Jordiada 2026\, la gran fiesta de la cultura popular de Cornellà\, que celebrará su acto central el 26 de abril en el parc de Can Mercader\, la AFA Baix Llobregat volverá a participar con su Tómbola Solidaria\, una cita que año tras año se ha convertido en una tradición de la entidad dentro de esta jornada. \nOs invitamos a acercaros a nuestro estand\, participar\, compartir y transformar. Con cada tiquet colaboraréis con la labor que la asociación desarrolla en apoyo a las personas con Alzheimer y otras demencias\, y a sus familias. \nParticipa y ayuda a escribir una historia mejor. ¡Os esperamos!
URL:https://afabaix.org/es/acte/tombola-solidaria-de-la-afa-en-la-jordiada-2026/
LOCATION:Parc de Can Marcader de Cornellà\, Ctra. de l'Hospitalet\, 78\, Cornellà de Llobregat\, Barcelona\, 08940
ATTACH;FMTTYPE=image/jpeg:https://afabaix.org/wp-content/uploads/2026/04/Tombola-Jordiada-2026.jpeg
END:VEVENT
BEGIN:VEVENT
DTSTART;TZID=UTC:20260428T110000
DTEND;TZID=UTC:20260428T120000
DTSTAMP:20260424T135258
CREATED:20260420T095646Z
LAST-MODIFIED:20260420T095646Z
UID:29950-1777374000-1777377600@afabaix.org
SUMMARY:Taller demostrativo de estimulación cognitiva
DESCRIPTION:Actividad demostrativa para conocer propuestas de estimulación cognitiva que favorecen una vida activa\, autónoma y saludable.
URL:https://afabaix.org/es/acte/taller-demostrativo-de-estimulacion-cognitiva/
LOCATION:Escola d’Adults Garrosa\, Ptge. Pau Vila\, 7\, Sant Vicenç dels Horts\, Barcelona\, 08620\, Spain
ATTACH;FMTTYPE=image/jpeg:https://afabaix.org/wp-content/uploads/2026/04/taller-dani-2804.jpeg
END:VEVENT
BEGIN:VEVENT
DTSTART;TZID=UTC:20260429T173000
DTEND;TZID=UTC:20260429T190000
DTSTAMP:20260424T135258
CREATED:20260409T104500Z
LAST-MODIFIED:20260409T104500Z
UID:29895-1777483800-1777489200@afabaix.org
SUMMARY:Taller de risoterapia en Esplugues de Llobregat
DESCRIPTION:Taller vivencial orientado a promover el bienestar emocional\, la relajación y la conexión con los demás a través de la risa. \nUna actividad de grupo conducida por Lila Lorenzo para disfrutar de un rato positivo y de participación.
URL:https://afabaix.org/es/acte/taller-de-risoterapia-en-esplugues-de-llobregat/
LOCATION:Masoveria de Can Tinturé\, Carrer Esglèsia\, 36\, Esplugues de Llobregat\, Barcelona\, 08950\, Spain
ATTACH;FMTTYPE=image/jpeg:https://afabaix.org/wp-content/uploads/2026/04/WhatsApp-Image-2026-04-09-at-10.47.32.jpeg
END:VEVENT
BEGIN:VEVENT
DTSTART;TZID=UTC:20260521T180000
DTEND;TZID=UTC:20260521T190000
DTSTAMP:20260424T135258
CREATED:20260417T073553Z
LAST-MODIFIED:20260420T074749Z
UID:29901-1779386400-1779390000@afabaix.org
SUMMARY:Convocatoria asamblea general 2026
DESCRIPTION:Convocatoria de la Asamblea General Ordinaria 2026 de la AFA Baix Llobregat el próximo día 21 de mayo de 2026 a las 18h en el Centro Alois de Cornellà de Llobregat a
URL:https://afabaix.org/es/acte/convocatoria-asamblea-general-2026/
LOCATION:Centre Alois de Cornella de Llobregat\, Avda. Línia Elèctrica\, 13 baixos
ATTACH;FMTTYPE=image/jpeg:https://afabaix.org/wp-content/uploads/2026/04/Convocatoria-asamblea-general-2026.jpeg
END:VEVENT
END:VCALENDAR